BEGIN:VCALENDAR
VERSION:2.0
PRODID:-//Hecta Studio - ECPv6.15.20//NONSGML v1.0//EN
CALSCALE:GREGORIAN
METHOD:PUBLISH
X-ORIGINAL-URL:https://hectastudio.com
X-WR-CALDESC:Veranstaltungen für Hecta Studio
REFRESH-INTERVAL;VALUE=DURATION:PT1H
X-Robots-Tag:noindex
X-PUBLISHED-TTL:PT1H
BEGIN:VTIMEZONE
TZID:Europe/Berlin
BEGIN:DAYLIGHT
TZOFFSETFROM:+0100
TZOFFSETTO:+0200
TZNAME:CEST
DTSTART:20250330T010000
END:DAYLIGHT
BEGIN:STANDARD
TZOFFSETFROM:+0200
TZOFFSETTO:+0100
TZNAME:CET
DTSTART:20251026T010000
END:STANDARD
BEGIN:DAYLIGHT
TZOFFSETFROM:+0100
TZOFFSETTO:+0200
TZNAME:CEST
DTSTART:20260329T010000
END:DAYLIGHT
BEGIN:STANDARD
TZOFFSETFROM:+0200
TZOFFSETTO:+0100
TZNAME:CET
DTSTART:20261025T010000
END:STANDARD
BEGIN:DAYLIGHT
TZOFFSETFROM:+0100
TZOFFSETTO:+0200
TZNAME:CEST
DTSTART:20270328T010000
END:DAYLIGHT
BEGIN:STANDARD
TZOFFSETFROM:+0200
TZOFFSETTO:+0100
TZNAME:CET
DTSTART:20271031T010000
END:STANDARD
END:VTIMEZONE
BEGIN:VEVENT
DTSTART;TZID=Europe/Berlin:20260503T120000
DTEND;TZID=Europe/Berlin:20260503T143000
DTSTAMP:20260423T102256
CREATED:20260413T224127Z
LAST-MODIFIED:20260421T123900Z
UID:4022-1777809600-1777818600@hectastudio.com
SUMMARY:Designer Kissen gestalten | ab 12:00 Uhr
DESCRIPTION:Kreativer Workshop in Kaarst: Gestalte dein eigenes Designer Kissen ob sommerlich\, minimalistisch oder verspielt – Snacks\, Drinks & Musik inklusive. \nJetzt Platz sichern! \n  \nErfahre mehr
URL:https://hectastudio.com/event/kissen-0305-1200/
END:VEVENT
BEGIN:VEVENT
DTSTART;TZID=Europe/Berlin:20260509T110000
DTEND;TZID=Europe/Berlin:20260509T130000
DTSTAMP:20260423T102256
CREATED:20260420T195825Z
LAST-MODIFIED:20260421T123757Z
UID:4035-1778324400-1778331600@hectastudio.com
SUMMARY:Mom & Me – Creative Date zum Muttertag | ab 11:00 Uhr
DESCRIPTION:Kreativer Muttertag Workshop: Gemeinsam Gläser bemalen\, anstoßen und Quality Time genießen – das perfekte Erlebnis für dich und deine Mama. Snacks\, Drinks & Musik inklusive. \nJetzt Platz sichern! \n  \nErfahre mehr
URL:https://hectastudio.com/event/muttertag-0911/
END:VEVENT
BEGIN:VEVENT
DTSTART;TZID=Europe/Berlin:20260509T140000
DTEND;TZID=Europe/Berlin:20260509T160000
DTSTAMP:20260423T102256
CREATED:20260420T200528Z
LAST-MODIFIED:20260421T123656Z
UID:4037-1778335200-1778342400@hectastudio.com
SUMMARY:Mom & Me – Creative Date zum Muttertag | ab 14:00 Uhr
DESCRIPTION:Kreativer Muttertag Workshop: Gemeinsam Gläser bemalen\, anstoßen und Quality Time genießen – das perfekte Erlebnis für dich und deine Mama. Snacks\, Drinks & Musik inklusive. \nJetzt Platz sichern! \n  \nErfahre mehr
URL:https://hectastudio.com/event/muttertag-0914/
END:VEVENT
BEGIN:VEVENT
DTSTART;TZID=Europe/Berlin:20260510T110000
DTEND;TZID=Europe/Berlin:20260510T130000
DTSTAMP:20260423T102256
CREATED:20260420T201414Z
LAST-MODIFIED:20260421T123545Z
UID:4043-1778410800-1778418000@hectastudio.com
SUMMARY:Mom & Me – Creative Date zum Muttertag | ab 11:00 Uhr
DESCRIPTION:Kreativer Muttertag Workshop: Gemeinsam Gläser bemalen\, anstoßen und Quality Time genießen – das perfekte Erlebnis für dich und deine Mama. Snacks\, Drinks & Musik inklusive. \nJetzt Platz sichern! \n  \nErfahre mehr
URL:https://hectastudio.com/event/muttertag-1011/
END:VEVENT
BEGIN:VEVENT
DTSTART;TZID=Europe/Berlin:20260510T140000
DTEND;TZID=Europe/Berlin:20260510T160000
DTSTAMP:20260423T102256
CREATED:20260420T200936Z
LAST-MODIFIED:20260421T123343Z
UID:4039-1778421600-1778428800@hectastudio.com
SUMMARY:Mom & Me – Creative Date zum Muttertag | ab 14:00 Uhr
DESCRIPTION:Kreativer Muttertag Workshop: Gemeinsam Gläser bemalen\, anstoßen und Quality Time genießen – das perfekte Erlebnis für dich und deine Mama. Snacks\, Drinks & Musik inklusive. \nJetzt Platz sichern! \n  \nErfahre mehr
URL:https://hectastudio.com/event/muttertag-1014/
END:VEVENT
END:VCALENDAR